BEGIN:VCALENDAR
VERSION:2.0
PRODID:-//Unser Kubach - ECPv6.15.16//NONSGML v1.0//EN
CALSCALE:GREGORIAN
METHOD:PUBLISH
X-WR-CALNAME:Unser Kubach
X-ORIGINAL-URL:https://www.unser-kubach.de
X-WR-CALDESC:Veranstaltungen für Unser Kubach
REFRESH-INTERVAL;VALUE=DURATION:PT1H
X-Robots-Tag:noindex
X-PUBLISHED-TTL:PT1H
BEGIN:VTIMEZONE
TZID:Europe/Paris
BEGIN:DAYLIGHT
TZOFFSETFROM:+0100
TZOFFSETTO:+0200
TZNAME:CEST
DTSTART:20240331T010000
END:DAYLIGHT
BEGIN:STANDARD
TZOFFSETFROM:+0200
TZOFFSETTO:+0100
TZNAME:CET
DTSTART:20241027T010000
END:STANDARD
BEGIN:DAYLIGHT
TZOFFSETFROM:+0100
TZOFFSETTO:+0200
TZNAME:CEST
DTSTART:20250330T010000
END:DAYLIGHT
BEGIN:STANDARD
TZOFFSETFROM:+0200
TZOFFSETTO:+0100
TZNAME:CET
DTSTART:20251026T010000
END:STANDARD
BEGIN:DAYLIGHT
TZOFFSETFROM:+0100
TZOFFSETTO:+0200
TZNAME:CEST
DTSTART:20260329T010000
END:DAYLIGHT
BEGIN:STANDARD
TZOFFSETFROM:+0200
TZOFFSETTO:+0100
TZNAME:CET
DTSTART:20261025T010000
END:STANDARD
END:VTIMEZONE
BEGIN:VEVENT
DTSTART;TZID=Europe/Paris:20251201T093000
DTEND;TZID=Europe/Paris:20251201T110000
DTSTAMP:20260426T054311
CREATED:20250122T181940Z
LAST-MODIFIED:20250122T181940Z
UID:10089-1764581400-1764586800@www.unser-kubach.de
SUMMARY:KIZ – Männerfrühstück
DESCRIPTION:Selbst ist der Mann. Wir Kubacher Männer bereiten uns jeden ersten Montag im Monat um 09.30 Uhr in unserem Vereinsraum ein leckeres Frühstück und schlemmen dann gemeinsam. Natürlich kommen auch die tagesaktuellen Themen mit auf den Tisch\, so dass es uns auch nie an Gesprächsstoff mangelt.  Interessierte wenden sich bitte bis spätestens 3 Tage vor den jeweiligen Terminen an Matthias Ahäuser\, Tel. 06471/41647.
URL:https://www.unser-kubach.de/veranstaltung/kiz-maennerfruehstueck-12/
LOCATION:KIZ-Kubach\, Hauptstraße 60\, Kubach\, Hessen\, 35781\, Germany
CATEGORIES:Kinder und Jugend
ATTACH;FMTTYPE=image/png:https://www.unser-kubach.de/wp-content/uploads/2025/01/maenner-fruehstueck-kiz.png
END:VEVENT
BEGIN:VEVENT
DTSTART;TZID=Europe/Paris:20251201T150000
DTEND;TZID=Europe/Paris:20251201T173000
DTSTAMP:20260426T054311
CREATED:20250122T170114Z
LAST-MODIFIED:20250122T170114Z
UID:9809-1764601200-1764610200@www.unser-kubach.de
SUMMARY:KIZ-Kubach: Reparatur-Café
DESCRIPTION:Das Reparatur-Café im KIZ Raum in der Kubacher Volkshalle findet jeden ersten Montag im Monat von 15.00 bis 17.30 Uhr statt\, außer an Feiertagen.
URL:https://www.unser-kubach.de/veranstaltung/kiz-kubach-reparatur-cafe-11/
LOCATION:KIZ-Kubach\, Hauptstraße 60\, Kubach\, Hessen\, 35781\, Germany
CATEGORIES:Kinder und Jugend
ATTACH;FMTTYPE=image/png:https://www.unser-kubach.de/wp-content/uploads/2025/01/kiz-sonntags-cafe-kuchen.png
END:VEVENT
BEGIN:VEVENT
DTSTART;TZID=Europe/Paris:20251202T143000
DTEND;TZID=Europe/Paris:20251202T173000
DTSTAMP:20260426T054311
CREATED:20250122T180812Z
LAST-MODIFIED:20250122T180812Z
UID:10021-1764685800-1764696600@www.unser-kubach.de
SUMMARY:KIZ – Nähstübchen
DESCRIPTION:Jeden Dienstag von 14.30 bis 17.30 Uhr treffen sich die Näherinnen im KIZ-Raum. In Erinnerung an die treibende Kraft bei der Gründung unseres Vereins\, die ehemalige Ortsvorsteherin Jacqueline Würz\, nennen wir dieses wöchentliche Treffen gerne auch: „Jacquelines Nähstübchen“.  Kontakt: Irmela Henrich\, 06471/ 41427 oder info@kiz-kubach.de
URL:https://www.unser-kubach.de/veranstaltung/kiz-naehstuebchen-45/
LOCATION:KIZ-Kubach\, Hauptstraße 60\, Kubach\, Hessen\, 35781\, Germany
CATEGORIES:Kinder und Jugend
ATTACH;FMTTYPE=image/png:https://www.unser-kubach.de/wp-content/uploads/2025/01/kiz-naehstuebchen-bild.png
END:VEVENT
BEGIN:VEVENT
DTSTART;TZID=Europe/Paris:20251207T150000
DTEND;TZID=Europe/Paris:20251207T170000
DTSTAMP:20260426T054311
CREATED:20250122T175540Z
LAST-MODIFIED:20250122T175540Z
UID:9921-1765119600-1765126800@www.unser-kubach.de
SUMMARY:KIZ – Sonntags-Café
DESCRIPTION:Das Sonntags-Café ist jeden Sonntag von 15:00 bis 17:00 Uhr in der Kubacher Volkshalle\, Hauptstraße 60\, für Mitglieder und Gäste geöffnet.  Es gibt immer mindestens zwei leckere selbst gebackene Kuchen mit Kaffee oder Tee.
URL:https://www.unser-kubach.de/veranstaltung/kiz-sonntags-cafe-46/
LOCATION:KIZ-Kubach\, Hauptstraße 60\, Kubach\, Hessen\, 35781\, Germany
CATEGORIES:Kinder und Jugend
ATTACH;FMTTYPE=image/png:https://www.unser-kubach.de/wp-content/uploads/2025/01/kiz-sonntags-cafe-kuchen.png
END:VEVENT
BEGIN:VEVENT
DTSTART;TZID=Europe/Paris:20251209T143000
DTEND;TZID=Europe/Paris:20251209T173000
DTSTAMP:20260426T054311
CREATED:20250122T180812Z
LAST-MODIFIED:20250122T180812Z
UID:10022-1765290600-1765301400@www.unser-kubach.de
SUMMARY:KIZ – Nähstübchen
DESCRIPTION:Jeden Dienstag von 14.30 bis 17.30 Uhr treffen sich die Näherinnen im KIZ-Raum. In Erinnerung an die treibende Kraft bei der Gründung unseres Vereins\, die ehemalige Ortsvorsteherin Jacqueline Würz\, nennen wir dieses wöchentliche Treffen gerne auch: „Jacquelines Nähstübchen“.  Kontakt: Irmela Henrich\, 06471/ 41427 oder info@kiz-kubach.de
URL:https://www.unser-kubach.de/veranstaltung/kiz-naehstuebchen-46/
LOCATION:KIZ-Kubach\, Hauptstraße 60\, Kubach\, Hessen\, 35781\, Germany
CATEGORIES:Kinder und Jugend
ATTACH;FMTTYPE=image/png:https://www.unser-kubach.de/wp-content/uploads/2025/01/kiz-naehstuebchen-bild.png
END:VEVENT
BEGIN:VEVENT
DTSTART;TZID=Europe/Paris:20251214T150000
DTEND;TZID=Europe/Paris:20251214T170000
DTSTAMP:20260426T054311
CREATED:20250122T175541Z
LAST-MODIFIED:20250122T175541Z
UID:9922-1765724400-1765731600@www.unser-kubach.de
SUMMARY:KIZ – Sonntags-Café
DESCRIPTION:Das Sonntags-Café ist jeden Sonntag von 15:00 bis 17:00 Uhr in der Kubacher Volkshalle\, Hauptstraße 60\, für Mitglieder und Gäste geöffnet.  Es gibt immer mindestens zwei leckere selbst gebackene Kuchen mit Kaffee oder Tee.
URL:https://www.unser-kubach.de/veranstaltung/kiz-sonntags-cafe-47/
LOCATION:KIZ-Kubach\, Hauptstraße 60\, Kubach\, Hessen\, 35781\, Germany
CATEGORIES:Kinder und Jugend
ATTACH;FMTTYPE=image/png:https://www.unser-kubach.de/wp-content/uploads/2025/01/kiz-sonntags-cafe-kuchen.png
END:VEVENT
BEGIN:VEVENT
DTSTART;TZID=Europe/Paris:20251216T143000
DTEND;TZID=Europe/Paris:20251216T173000
DTSTAMP:20260426T054311
CREATED:20250122T180812Z
LAST-MODIFIED:20250122T180812Z
UID:10023-1765895400-1765906200@www.unser-kubach.de
SUMMARY:KIZ – Nähstübchen
DESCRIPTION:Jeden Dienstag von 14.30 bis 17.30 Uhr treffen sich die Näherinnen im KIZ-Raum. In Erinnerung an die treibende Kraft bei der Gründung unseres Vereins\, die ehemalige Ortsvorsteherin Jacqueline Würz\, nennen wir dieses wöchentliche Treffen gerne auch: „Jacquelines Nähstübchen“.  Kontakt: Irmela Henrich\, 06471/ 41427 oder info@kiz-kubach.de
URL:https://www.unser-kubach.de/veranstaltung/kiz-naehstuebchen-47/
LOCATION:KIZ-Kubach\, Hauptstraße 60\, Kubach\, Hessen\, 35781\, Germany
CATEGORIES:Kinder und Jugend
ATTACH;FMTTYPE=image/png:https://www.unser-kubach.de/wp-content/uploads/2025/01/kiz-naehstuebchen-bild.png
END:VEVENT
BEGIN:VEVENT
DTSTART;TZID=Europe/Paris:20251218T120000
DTEND;TZID=Europe/Paris:20251218T140000
DTSTAMP:20260426T054311
CREATED:20250122T171232Z
LAST-MODIFIED:20250122T171232Z
UID:9833-1766059200-1766066400@www.unser-kubach.de
SUMMARY:KIZ-Kubach: Gemeinsames Mittagessen
DESCRIPTION:Jeden 3. Donnerstag eines Monats lädt das KIZ-Kubach die Mitglieder und Partner zu einem gemeinsamen Mittagessen
URL:https://www.unser-kubach.de/veranstaltung/kiz-kubach-gemeinsames-mittagessen-12/
LOCATION:KIZ-Kubach\, Hauptstraße 60\, Kubach\, Hessen\, 35781\, Germany
CATEGORIES:Kinder und Jugend
ATTACH;FMTTYPE=image/png:https://www.unser-kubach.de/wp-content/uploads/2025/01/Gemeinsames-Essen-der-KIZ-Mitglieder-1024x576-1.png
END:VEVENT
BEGIN:VEVENT
DTSTART;TZID=Europe/Paris:20251221T150000
DTEND;TZID=Europe/Paris:20251221T170000
DTSTAMP:20260426T054312
CREATED:20250122T175541Z
LAST-MODIFIED:20250122T175541Z
UID:9923-1766329200-1766336400@www.unser-kubach.de
SUMMARY:KIZ – Sonntags-Café
DESCRIPTION:Das Sonntags-Café ist jeden Sonntag von 15:00 bis 17:00 Uhr in der Kubacher Volkshalle\, Hauptstraße 60\, für Mitglieder und Gäste geöffnet.  Es gibt immer mindestens zwei leckere selbst gebackene Kuchen mit Kaffee oder Tee.
URL:https://www.unser-kubach.de/veranstaltung/kiz-sonntags-cafe-48/
LOCATION:KIZ-Kubach\, Hauptstraße 60\, Kubach\, Hessen\, 35781\, Germany
CATEGORIES:Kinder und Jugend
ATTACH;FMTTYPE=image/png:https://www.unser-kubach.de/wp-content/uploads/2025/01/kiz-sonntags-cafe-kuchen.png
END:VEVENT
BEGIN:VEVENT
DTSTART;TZID=Europe/Paris:20251223T143000
DTEND;TZID=Europe/Paris:20251223T173000
DTSTAMP:20260426T054312
CREATED:20250122T180812Z
LAST-MODIFIED:20250122T180812Z
UID:10024-1766500200-1766511000@www.unser-kubach.de
SUMMARY:KIZ – Nähstübchen
DESCRIPTION:Jeden Dienstag von 14.30 bis 17.30 Uhr treffen sich die Näherinnen im KIZ-Raum. In Erinnerung an die treibende Kraft bei der Gründung unseres Vereins\, die ehemalige Ortsvorsteherin Jacqueline Würz\, nennen wir dieses wöchentliche Treffen gerne auch: „Jacquelines Nähstübchen“.  Kontakt: Irmela Henrich\, 06471/ 41427 oder info@kiz-kubach.de
URL:https://www.unser-kubach.de/veranstaltung/kiz-naehstuebchen-48/
LOCATION:KIZ-Kubach\, Hauptstraße 60\, Kubach\, Hessen\, 35781\, Germany
CATEGORIES:Kinder und Jugend
ATTACH;FMTTYPE=image/png:https://www.unser-kubach.de/wp-content/uploads/2025/01/kiz-naehstuebchen-bild.png
END:VEVENT
BEGIN:VEVENT
DTSTART;TZID=Europe/Paris:20251228T150000
DTEND;TZID=Europe/Paris:20251228T170000
DTSTAMP:20260426T054312
CREATED:20250122T175541Z
LAST-MODIFIED:20250122T175541Z
UID:9924-1766934000-1766941200@www.unser-kubach.de
SUMMARY:KIZ – Sonntags-Café
DESCRIPTION:Das Sonntags-Café ist jeden Sonntag von 15:00 bis 17:00 Uhr in der Kubacher Volkshalle\, Hauptstraße 60\, für Mitglieder und Gäste geöffnet.  Es gibt immer mindestens zwei leckere selbst gebackene Kuchen mit Kaffee oder Tee.
URL:https://www.unser-kubach.de/veranstaltung/kiz-sonntags-cafe-49/
LOCATION:KIZ-Kubach\, Hauptstraße 60\, Kubach\, Hessen\, 35781\, Germany
CATEGORIES:Kinder und Jugend
ATTACH;FMTTYPE=image/png:https://www.unser-kubach.de/wp-content/uploads/2025/01/kiz-sonntags-cafe-kuchen.png
END:VEVENT
BEGIN:VEVENT
DTSTART;TZID=Europe/Paris:20251230T143000
DTEND;TZID=Europe/Paris:20251230T173000
DTSTAMP:20260426T054312
CREATED:20250122T180812Z
LAST-MODIFIED:20250122T180812Z
UID:10025-1767105000-1767115800@www.unser-kubach.de
SUMMARY:KIZ – Nähstübchen
DESCRIPTION:Jeden Dienstag von 14.30 bis 17.30 Uhr treffen sich die Näherinnen im KIZ-Raum. In Erinnerung an die treibende Kraft bei der Gründung unseres Vereins\, die ehemalige Ortsvorsteherin Jacqueline Würz\, nennen wir dieses wöchentliche Treffen gerne auch: „Jacquelines Nähstübchen“.  Kontakt: Irmela Henrich\, 06471/ 41427 oder info@kiz-kubach.de
URL:https://www.unser-kubach.de/veranstaltung/kiz-naehstuebchen-49/
LOCATION:KIZ-Kubach\, Hauptstraße 60\, Kubach\, Hessen\, 35781\, Germany
CATEGORIES:Kinder und Jugend
ATTACH;FMTTYPE=image/png:https://www.unser-kubach.de/wp-content/uploads/2025/01/kiz-naehstuebchen-bild.png
END:VEVENT
END:VCALENDAR